BEGIN:VCALENDAR
VERSION:2.0
PRODID:-//Tukios.com/
BEGIN:VEVENT
UID:3da1dfc9-b704-4c10-a3f6-8b7f176df56f@tarentumobits.slaterfuneral.com
DTSTAMP:20260424T015224Z
DTSTART:20260426T180000Z
DTEND:20260426T220000Z
SUMMARY:Visitation
DESCRIPTION:
URL:https://tarentumobits.slaterfuneral.com/gloria-micozzi
LOCATION: 347 E 10th Ave  Tarentum PA 15084
GEO:40.6062178;-79.7546764
END:VEVENT
END:VCALENDAR