BEGIN:VCALENDAR
VERSION:2.0
PRODID:-//Tukios.com/
BEGIN:VEVENT
UID:625d4137-edde-42c1-9108-f851d94cb9b8@tarentumobits.slaterfuneral.com
DTSTAMP:20260424T015224Z
DTSTART:20260427T140000Z
DTEND:20260427T150000Z
SUMMARY:Mass of Christian Burial
DESCRIPTION:
URL:https://tarentumobits.slaterfuneral.com/gloria-micozzi
LOCATION: 800 Montana Ave  Natrona Heights PA 15065
GEO:40.6205665;-79.7271996
END:VEVENT
END:VCALENDAR